BEGIN:VCALENDAR
VERSION:2.0
PRODID:-// - ECPv5.14.0.2//NONSGML v1.0//EN
CALSCALE:GREGORIAN
METHOD:PUBLISH
X-ORIGINAL-URL:https://www.fourquarterbar.com
X-WR-CALDESC:Events for 
BEGIN:VTIMEZONE
TZID:America/Chicago
BEGIN:DAYLIGHT
TZOFFSETFROM:-0600
TZOFFSETTO:-0500
TZNAME:CDT
DTSTART:20190310T080000
END:DAYLIGHT
BEGIN:STANDARD
TZOFFSETFROM:-0500
TZOFFSETTO:-0600
TZNAME:CST
DTSTART:20191103T070000
END:STANDARD
END:VTIMEZONE
BEGIN:VEVENT
DTSTART;TZID=America/Chicago:20190803T170000
DTEND;TZID=America/Chicago:20190803T200000
DTSTAMP:20260423T014252
CREATED:20190710T010146Z
LAST-MODIFIED:20190710T010235Z
UID:1084-1564851600-1564862400@www.fourquarterbar.com
SUMMARY:Woody & Sunshine
DESCRIPTION:10 pm\n$7 Cover \n​It’s the Infamous Woody & Sunshine.​ They’re a pair of pickin’ Arkansan grinners with an insatiable appetite for musical adventure\, and a broad palette of tastes and genres. \nFoot-stompin’. Banjo-pickin’. Guitar-shavin’. World-savin’. \nAn absolute sonic feast for your ear-balls. A winding double-helix of harmonic bliss. A chance to grab the comet by it’s tail and whip around the uni-verse in a spiral of intangible thought and energy. \n​Since 2011\, Woody & Sunshine have been making music together. Since 2012\, they’ve played over 250 live concerts and festivals\, circuiting Arkansas\, Oklahoma\, Tennessee\, Georgia\, Florida and Colorado\, and have played with remarkable musicians such as: \n​Richie “Shakin'” Nagan (Of Parliament Funkadelic) \nSikiru Adepujo (Of Mickey Hart Band) \nChris “Citrus” Sauthoff (Of Parliament Funkadelic) \nJimmy Tebeau (Of The Schwag and JGB) \nMichael Brinson (Of Friends of the Phamily \nVia festivals and venues\, W&S have opened for the likes of Keller Williams\, Railroad Earth\, John Kadlecik\, The Schwag\, Melvin Seals & JGB\, Jeff Austin Band and many more.
URL:https://www.fourquarterbar.com/event/1084/
LOCATION:Four Quarter Bar\, 415 Main St.\, North Little Rock\, AR\, 72114\, United States
ATTACH;FMTTYPE=image/jpeg:https://www.fourquarterbar.com/wp-content/uploads/2019/07/WoodyandSunshine2.jpg
END:VEVENT
END:VCALENDAR