BEGIN:VCALENDAR
VERSION:2.0
PRODID:-// - ECPv5.14.0.2//NONSGML v1.0//EN
CALSCALE:GREGORIAN
METHOD:PUBLISH
X-ORIGINAL-URL:https://www.fourquarterbar.com
X-WR-CALDESC:Events for 
BEGIN:VTIMEZONE
TZID:America/Chicago
BEGIN:DAYLIGHT
TZOFFSETFROM:-0600
TZOFFSETTO:-0500
TZNAME:CDT
DTSTART:20190310T080000
END:DAYLIGHT
BEGIN:STANDARD
TZOFFSETFROM:-0500
TZOFFSETTO:-0600
TZNAME:CST
DTSTART:20191103T070000
END:STANDARD
END:VTIMEZONE
BEGIN:VEVENT
DTSTART;TZID=America/Chicago:20191031T160000
DTEND;TZID=America/Chicago:20191031T200000
DTSTAMP:20260422T221230
CREATED:20191029T110443Z
LAST-MODIFIED:20191029T110542Z
UID:1157-1572537600-1572552000@www.fourquarterbar.com
SUMMARY:Rocky Horror Pickin Show w/ The Crumbs
DESCRIPTION:9 pm\n$7 Cover\nSCIENCE FICTION\, DOUBLE FEATURE with longtime pickers The Crumbs!
URL:https://www.fourquarterbar.com/event/1157/
LOCATION:Four Quarter Bar\, 415 Main St.\, North Little Rock\, AR\, 72114\, United States
ATTACH;FMTTYPE=image/jpeg:https://www.fourquarterbar.com/wp-content/uploads/2019/10/rockyhorror.jpg
END:VEVENT
END:VCALENDAR