BEGIN:VCALENDAR
VERSION:2.0
PRODID:-// - ECPv5.14.0.2//NONSGML v1.0//EN
CALSCALE:GREGORIAN
METHOD:PUBLISH
X-ORIGINAL-URL:https://www.fourquarterbar.com
X-WR-CALDESC:Events for 
BEGIN:VTIMEZONE
TZID:America/Chicago
BEGIN:DAYLIGHT
TZOFFSETFROM:-0600
TZOFFSETTO:-0500
TZNAME:CDT
DTSTART:20250309T080000
END:DAYLIGHT
BEGIN:STANDARD
TZOFFSETFROM:-0500
TZOFFSETTO:-0600
TZNAME:CST
DTSTART:20251102T070000
END:STANDARD
END:VTIMEZONE
BEGIN:VEVENT
DTSTART;TZID=America/Chicago:20250607T213000
DTEND;TZID=America/Chicago:20250608T010000
DTSTAMP:20260419T172324
CREATED:20250603T214341Z
LAST-MODIFIED:20250603T214356Z
UID:2613-1749331800-1749344400@www.fourquarterbar.com
SUMMARY:Mayday By Midnight
DESCRIPTION:It’s a bird\, it’s a plane\, no it’s MAYDAY BY MIDNIGHT at Four Quarter Bar Saturday\, June 7th. \nIt’s the day you have all been waiting for!! Plus The Christine DeMeo will be joining us on the stage!!! It’s going to be SUPER FUN!!! Music starts 9:30pm. \n$10 Cover
URL:https://www.fourquarterbar.com/event/2613/
LOCATION:Four Quarter Bar\, 415 Main St.\, North Little Rock\, AR\, 72114\, United States
END:VEVENT
END:VCALENDAR