BEGIN:VCALENDAR
VERSION:2.0
PRODID:-// - ECPv5.14.0.2//NONSGML v1.0//EN
CALSCALE:GREGORIAN
METHOD:PUBLISH
X-ORIGINAL-URL:https://www.fourquarterbar.com
X-WR-CALDESC:Events for 
BEGIN:VTIMEZONE
TZID:America/Chicago
BEGIN:DAYLIGHT
TZOFFSETFROM:-0600
TZOFFSETTO:-0500
TZNAME:CDT
DTSTART:20250309T080000
END:DAYLIGHT
BEGIN:STANDARD
TZOFFSETFROM:-0500
TZOFFSETTO:-0600
TZNAME:CST
DTSTART:20251102T070000
END:STANDARD
END:VTIMEZONE
BEGIN:VEVENT
DTSTART;TZID=America/Chicago:20251213T190000
DTEND;TZID=America/Chicago:20251214T010000
DTSTAMP:20260419T092602
CREATED:20251130T014553Z
LAST-MODIFIED:20251130T014722Z
UID:2790-1765652400-1765674000@www.fourquarterbar.com
SUMMARY:Angie Clements Annual Toys for Tots Party w/ Mayday by Midnight
DESCRIPTION:Happy Holidays!!! I can’t believe it’s been 15 years! Its time for everyone to get dressed up and come together for a great cause..Arkansas Childrens Hospital. MAYDAY BY MIDNIGHT is back with us this year! So excited. As usual\, great Little Rock restaurants are donating delicious food! ALSO PICS WITH SANTA BLAKE!!!! I can’t wait to see everyone. It takes 2 toys per person for entry.
URL:https://www.fourquarterbar.com/event/2790/
LOCATION:Four Quarter Bar\, 415 Main St.\, North Little Rock\, AR\, 72114\, United States
END:VEVENT
END:VCALENDAR