BEGIN:VCALENDAR
VERSION:2.0
PRODID:-// - ECPv5.14.0.2//NONSGML v1.0//EN
CALSCALE:GREGORIAN
METHOD:PUBLISH
X-ORIGINAL-URL:https://www.fourquarterbar.com
X-WR-CALDESC:Events for 
BEGIN:VTIMEZONE
TZID:America/Chicago
BEGIN:DAYLIGHT
TZOFFSETFROM:-0600
TZOFFSETTO:-0500
TZNAME:CDT
DTSTART:20200308T080000
END:DAYLIGHT
BEGIN:STANDARD
TZOFFSETFROM:-0500
TZOFFSETTO:-0600
TZNAME:CST
DTSTART:20201101T070000
END:STANDARD
END:VTIMEZONE
BEGIN:VEVENT
DTSTART;TZID=America/Chicago:20200122T020000
DTEND;TZID=America/Chicago:20200122T110000
DTSTAMP:20260422T174331
CREATED:20200123T055140Z
LAST-MODIFIED:20200123T055140Z
UID:1275-1579658400-1579690800@www.fourquarterbar.com
SUMMARY:Aaron Kamm & The One Drops
DESCRIPTION:Four Quarter Bar // N. Little Rock\, AR\nAaron Kamm and the One Drops \nGenre: Reggae/Blues/Jam\nCover: $10\nDoors: 9pm\nAge: 21+ \nHailing from St. Louis\, MO\, Aaron Kamm and the One Drops merge flavors of Roots Reggae\, Mississippi River Blues\, Improv-laced Jams\, and Soulful Vocals. With a High energy performance and a unique sound this band is a must see. \nweb: https://www.aaronkammonedrops.com\nvid: https://youtu.be/gMb3M9UhB3o
URL:https://www.fourquarterbar.com/event/aaron-kamm-the-one-drops-2/
LOCATION:Four Quarter Bar\, 415 Main St.\, North Little Rock\, AR\, 72114\, United States
ATTACH;FMTTYPE=image/jpeg:https://www.fourquarterbar.com/wp-content/uploads/2020/01/aaronkamm_20200122.jpg
END:VEVENT
END:VCALENDAR