BEGIN:VCALENDAR
VERSION:2.0
PRODID:-// - ECPv5.14.0.2//NONSGML v1.0//EN
CALSCALE:GREGORIAN
METHOD:PUBLISH
X-ORIGINAL-URL:https://www.fourquarterbar.com
X-WR-CALDESC:Events for 
BEGIN:VTIMEZONE
TZID:America/Chicago
BEGIN:DAYLIGHT
TZOFFSETFROM:-0600
TZOFFSETTO:-0500
TZNAME:CDT
DTSTART:20190310T080000
END:DAYLIGHT
BEGIN:STANDARD
TZOFFSETFROM:-0500
TZOFFSETTO:-0600
TZNAME:CST
DTSTART:20191103T070000
END:STANDARD
END:VTIMEZONE
BEGIN:VEVENT
DTSTART;TZID=America/Chicago:20190503T170000
DTEND;TZID=America/Chicago:20190503T200000
DTSTAMP:20260423T061502
CREATED:20190222T020749Z
LAST-MODIFIED:20190222T021820Z
UID:894-1556902800-1556913600@www.fourquarterbar.com
SUMMARY:Aaron Kamm & The One Drops
DESCRIPTION:Tickets available via Central Arkansas Tickets \n\n\nMay 3 // 10pm // $10 \n\n\n\n\nHailing from St. Louis\, MO\, Aaron Kamm and the One Drops merge flavors of Roots Reggae\, Mississippi River Blues\, Improv-laced Jams\, and Soulful Vocals. With their high-energy performance and unique sound\, Aaron Kamm and the One Drops are a must see.
URL:https://www.fourquarterbar.com/event/aaron-kamm-the-one-drops/
LOCATION:Four Quarter Bar\, 415 Main St.\, North Little Rock\, AR\, 72114\, United States
ATTACH;FMTTYPE=image/png:https://www.fourquarterbar.com/wp-content/uploads/2019/02/AaronKamm.png
END:VEVENT
END:VCALENDAR