BEGIN:VCALENDAR
VERSION:2.0
PRODID:-// - ECPv5.14.0.2//NONSGML v1.0//EN
CALSCALE:GREGORIAN
METHOD:PUBLISH
X-ORIGINAL-URL:https://www.fourquarterbar.com
X-WR-CALDESC:Events for 
BEGIN:VTIMEZONE
TZID:America/Chicago
BEGIN:DAYLIGHT
TZOFFSETFROM:-0600
TZOFFSETTO:-0500
TZNAME:CDT
DTSTART:20190310T080000
END:DAYLIGHT
BEGIN:STANDARD
TZOFFSETFROM:-0500
TZOFFSETTO:-0600
TZNAME:CST
DTSTART:20191103T070000
END:STANDARD
END:VTIMEZONE
BEGIN:VEVENT
DTSTART;TZID=America/Chicago:20191029T030000
DTEND;TZID=America/Chicago:20191029T120000
DTSTAMP:20260422T203953
CREATED:20191002T093719Z
LAST-MODIFIED:20191002T093731Z
UID:1150-1572318000-1572350400@www.fourquarterbar.com
SUMMARY:Amelia White w/ Mark Currey
DESCRIPTION:8 pm\nFREE Show!
URL:https://www.fourquarterbar.com/event/amelia-white-w-mark-currey/
LOCATION:Four Quarter Bar\, 415 Main St.\, North Little Rock\, AR\, 72114\, United States
ATTACH;FMTTYPE=image/jpeg:https://www.fourquarterbar.com/wp-content/uploads/2019/10/ameliawhite.jpg
END:VEVENT
END:VCALENDAR