BEGIN:VCALENDAR
VERSION:2.0
PRODID:-// - ECPv5.14.0.2//NONSGML v1.0//EN
CALSCALE:GREGORIAN
METHOD:PUBLISH
X-ORIGINAL-URL:https://www.fourquarterbar.com
X-WR-CALDESC:Events for 
BEGIN:VTIMEZONE
TZID:America/Chicago
BEGIN:DAYLIGHT
TZOFFSETFROM:-0600
TZOFFSETTO:-0500
TZNAME:CDT
DTSTART:20190310T080000
END:DAYLIGHT
BEGIN:STANDARD
TZOFFSETFROM:-0500
TZOFFSETTO:-0600
TZNAME:CST
DTSTART:20191103T070000
END:STANDARD
END:VTIMEZONE
BEGIN:VEVENT
DTSTART;TZID=America/Chicago:20191207T160000
DTEND;TZID=America/Chicago:20191207T190000
DTSTAMP:20260422T191241
CREATED:20191125T012459Z
LAST-MODIFIED:20191126T030938Z
UID:1208-1575734400-1575745200@www.fourquarterbar.com
SUMMARY:Angie Clements' Annual Toys For Tots Christmas Party
DESCRIPTION:One of our favorite nights of the year! \nNerd Eye Blind will be keeping us entertained starting at 9 pm. \nCover is $10 or bring 2 unwrapped new toys for Toys for Tots.
URL:https://www.fourquarterbar.com/event/angie-clements-annual-toys-for-tots-christmas-party/
LOCATION:Four Quarter Bar\, 415 Main St.\, North Little Rock\, AR\, 72114\, United States
ATTACH;FMTTYPE=image/jpeg:https://www.fourquarterbar.com/wp-content/uploads/2019/11/angie_christmas-party.jpg
END:VEVENT
END:VCALENDAR