BEGIN:VCALENDAR
VERSION:2.0
PRODID:-// - ECPv5.14.0.2//NONSGML v1.0//EN
CALSCALE:GREGORIAN
METHOD:PUBLISH
X-ORIGINAL-URL:https://www.fourquarterbar.com
X-WR-CALDESC:Events for 
BEGIN:VTIMEZONE
TZID:America/Chicago
BEGIN:DAYLIGHT
TZOFFSETFROM:-0600
TZOFFSETTO:-0500
TZNAME:CDT
DTSTART:20210314T080000
END:DAYLIGHT
BEGIN:STANDARD
TZOFFSETFROM:-0500
TZOFFSETTO:-0600
TZNAME:CST
DTSTART:20211107T070000
END:STANDARD
END:VTIMEZONE
BEGIN:VEVENT
DTSTART;TZID=America/Chicago:20210618T180000
DTEND;TZID=America/Chicago:20210618T210000
DTSTAMP:20260422T091629
CREATED:20210610T020930Z
LAST-MODIFIED:20210610T020930Z
UID:1481-1624039200-1624050000@www.fourquarterbar.com
SUMMARY:Argenta Outdoor Dining w/ Jess and the Mess feat. Billy Gibson
DESCRIPTION:We will be shutting the block down for another weekend party! Jess and the Mess will be playing outside on the Argenta Library steps. Food and drink will be served outside by all participating bars and restaurants.
URL:https://www.fourquarterbar.com/event/argenta-outdoor-dining-w-jess-and-the-mess-feat-billy-gibson/
LOCATION:Four Quarter Bar\, 415 Main St.\, North Little Rock\, AR\, 72114\, United States
ATTACH;FMTTYPE=image/jpeg:https://www.fourquarterbar.com/wp-content/uploads/2021/06/20210618_jessbilly.jpg
END:VEVENT
END:VCALENDAR