BEGIN:VCALENDAR
VERSION:2.0
PRODID:-// - ECPv5.14.0.2//NONSGML v1.0//EN
CALSCALE:GREGORIAN
METHOD:PUBLISH
X-ORIGINAL-URL:https://www.fourquarterbar.com
X-WR-CALDESC:Events for 
BEGIN:VTIMEZONE
TZID:America/Chicago
BEGIN:DAYLIGHT
TZOFFSETFROM:-0600
TZOFFSETTO:-0500
TZNAME:CDT
DTSTART:20190310T080000
END:DAYLIGHT
BEGIN:STANDARD
TZOFFSETFROM:-0500
TZOFFSETTO:-0600
TZNAME:CST
DTSTART:20191103T070000
END:STANDARD
END:VTIMEZONE
BEGIN:VEVENT
DTSTART;TZID=America/Chicago:20190817T170000
DTEND;TZID=America/Chicago:20190817T200000
DTSTAMP:20260423T014406
CREATED:20190710T012338Z
LAST-MODIFIED:20190710T012338Z
UID:1090-1566061200-1566072000@www.fourquarterbar.com
SUMMARY:Austin Meade
DESCRIPTION:10 pm\n$10 Cover \nInspired by the Rock ‘n’ Roll Greats and Red Dirt Legends\, Austin Meade tastefully blends bluesy guitars and deliberate vocals to deliver a familiar\, yet fresh\, sound in a 4-piece package. A 2015 Agricultural Business graduate of Texas A&M University\, and former drummer\, Meade’s appeal reaches not only to the co-eds of the next generation\, but simultaneously waxes nostalgic for those longing for the ambient guitars of the 70s. Meade’s current EP “Heartbreak Coming\,” features the singles “Born With A Broken Heart” and “Courage To Talk.”
URL:https://www.fourquarterbar.com/event/austin-meade/
LOCATION:Four Quarter Bar\, 415 Main St.\, North Little Rock\, AR\, 72114\, United States
ATTACH;FMTTYPE=image/jpeg:https://www.fourquarterbar.com/wp-content/uploads/2019/07/AustinMeade.jpg
END:VEVENT
END:VCALENDAR