BEGIN:VCALENDAR
VERSION:2.0
PRODID:-// - ECPv5.14.0.2//NONSGML v1.0//EN
CALSCALE:GREGORIAN
METHOD:PUBLISH
X-ORIGINAL-URL:https://www.fourquarterbar.com
X-WR-CALDESC:Events for 
BEGIN:VTIMEZONE
TZID:America/Chicago
BEGIN:DAYLIGHT
TZOFFSETFROM:-0600
TZOFFSETTO:-0500
TZNAME:CDT
DTSTART:20260308T080000
END:DAYLIGHT
BEGIN:STANDARD
TZOFFSETFROM:-0500
TZOFFSETTO:-0600
TZNAME:CST
DTSTART:20261101T070000
END:STANDARD
END:VTIMEZONE
BEGIN:VEVENT
DTSTART;TZID=America/Chicago:20260425T213000
DTEND;TZID=America/Chicago:20260426T010000
DTSTAMP:20260419T234700
CREATED:20260303T015820Z
LAST-MODIFIED:20260303T015820Z
UID:2916-1777152600-1777165200@www.fourquarterbar.com
SUMMARY:Big Dam Horns
DESCRIPTION:You feel the ground trembling beneath your feet\, and the deafening blast of a trumpet pierces the air. The Big Dam Horns are making their triumphant return to the stage this April! \nStarts: 9:30  \nCover: $10 \n 
URL:https://www.fourquarterbar.com/event/big-dam-horns-12/
LOCATION:Four Quarter Bar\, 415 Main St.\, North Little Rock\, AR\, 72114\, United States
END:VEVENT
END:VCALENDAR