BEGIN:VCALENDAR
VERSION:2.0
PRODID:-// - ECPv5.14.0.2//NONSGML v1.0//EN
CALSCALE:GREGORIAN
METHOD:PUBLISH
X-ORIGINAL-URL:https://www.fourquarterbar.com
X-WR-CALDESC:Events for 
BEGIN:VTIMEZONE
TZID:America/Chicago
BEGIN:DAYLIGHT
TZOFFSETFROM:-0600
TZOFFSETTO:-0500
TZNAME:CDT
DTSTART:20190310T080000
END:DAYLIGHT
BEGIN:STANDARD
TZOFFSETFROM:-0500
TZOFFSETTO:-0600
TZNAME:CST
DTSTART:20191103T070000
END:STANDARD
END:VTIMEZONE
BEGIN:VEVENT
DTSTART;TZID=America/Chicago:20190913T170000
DTEND;TZID=America/Chicago:20190913T200000
DTSTAMP:20260422T235338
CREATED:20190823T112959Z
LAST-MODIFIED:20190823T114649Z
UID:1115-1568394000-1568404800@www.fourquarterbar.com
SUMMARY:Big Red Flag
DESCRIPTION:10 PM\n$7 Cover \nBig Red Flag is a modern-day purveyor of Ragtime Gypsy Grass. Big Red Flag can’t be neatly pigeon holed into one genre or category. The one defining element of their music is that it’s all done on acoustic instruments: guitars\, mandolin\, banjo\, piano\, acoustic bass\, accordions\, and a variety of clever percussion accoutrements. Pure\, organic and honest\, without the myriad effects and affectations of so many performing acts today. Big Red Flag’s sound is the same\, whether on the stage or on the street corner.\nWhile their focus is on playing their own handcrafted\, artisanal ditties\, they draw on a wide variety of influences: Olde World Eastern European traditionals\, Irish drinking songs\, waltzes\, tangos and polkas\, Latin jazz\, and a fair nod to Tom Waits\, Gogol Bordello\, Scott Joplin and the Pogues.\nBig Red Flag is comprised of veteran musicians who have performed\, not only all around their home state of Arkansas\, but in the pubs and streets of Ireland and all over the South Korean peninsula\, among other semi-exotic locales. Outside of Big Red Flag\, the fellas have honed their craft in genre-specific bands performing Irish punk\, Western pop\, blues\, alt-country\, funk\, surf and straight-up rock ‘n roll.\nBig Red Flag’s all-acoustic orchestrations will delight your ears\, lift your spirits and tickle your funny bone. Their irreverent\, original\, high-energy ditties are entertaining\, compelling and bound to make you clap or sing along. Join Big Red Flag for a jaunt through seedy cabarets\, eastern European gypsy camps and apocalyptic nightmares. A grand time!
URL:https://www.fourquarterbar.com/event/big-red-flag-2/
LOCATION:Four Quarter Bar\, 415 Main St.\, North Little Rock\, AR\, 72114\, United States
ATTACH;FMTTYPE=image/jpeg:https://www.fourquarterbar.com/wp-content/uploads/2019/01/BigRedFlag.jpg
END:VEVENT
END:VCALENDAR