BEGIN:VCALENDAR
VERSION:2.0
PRODID:-// - ECPv5.14.0.2//NONSGML v1.0//EN
CALSCALE:GREGORIAN
METHOD:PUBLISH
X-ORIGINAL-URL:https://www.fourquarterbar.com
X-WR-CALDESC:Events for 
BEGIN:VTIMEZONE
TZID:America/Chicago
BEGIN:DAYLIGHT
TZOFFSETFROM:-0600
TZOFFSETTO:-0500
TZNAME:CDT
DTSTART:20200308T080000
END:DAYLIGHT
BEGIN:STANDARD
TZOFFSETFROM:-0500
TZOFFSETTO:-0600
TZNAME:CST
DTSTART:20201101T070000
END:STANDARD
END:VTIMEZONE
BEGIN:VEVENT
DTSTART;TZID=America/Chicago:20200307T160000
DTEND;TZID=America/Chicago:20200307T190000
DTSTAMP:20260422T091750
CREATED:20200218T074231Z
LAST-MODIFIED:20200218T074231Z
UID:1307-1583596800-1583607600@www.fourquarterbar.com
SUMMARY:Big Silver / Karly Driftwood (TN) / William Blackart
DESCRIPTION:10 pm \n$7 Cover \nBig Silver\nhttps://www.facebook.com/Big-Silver-174708975880238/ \nLotta’ rock from Little Rock. Be cool\, my babies!\n——————– \nKarly Driftwood\nhttps://www.karlydriftwood.com/ \nThe Virginia-born singer-songwriter eschews country music status quo and instead leans on the dark themes of life. The songs are just as much influenced by the Misfits or Danzig as they are Johnny Cash or Dolly Parton; to put a finer point on it\, Karly Driftwood is a potent mixture of equal parts Sylvia Plath and The Drive-By Truckers. Even her stage name\, “Driftwood” is a nod to Otis Driftwood from Rob Zombie’s The Devil’s Rejects.\n——————– \nWilliam Blackart\nhttps://www.williamblackart.com/ \nArkansas native William Blackart plays a lo-fi country brand of folk music. With lyrics described as “poetic and captivating\,” vocals pegged as “rough and emotive” and guitar work called “hypnotic and spare” (Dakota Discography)\, his influences range from Townes Van Zandt to Leonard Cohen to The Clash.
URL:https://www.fourquarterbar.com/event/big-silver-karly-driftwood-tn-william-blackart/
LOCATION:Four Quarter Bar\, 415 Main St.\, North Little Rock\, AR\, 72114\, United States
ATTACH;FMTTYPE=image/jpeg:https://www.fourquarterbar.com/wp-content/uploads/2020/02/bigsilver_20200217-1.jpg
END:VEVENT
END:VCALENDAR