BEGIN:VCALENDAR
VERSION:2.0
PRODID:-// - ECPv5.14.0.2//NONSGML v1.0//EN
CALSCALE:GREGORIAN
METHOD:PUBLISH
X-ORIGINAL-URL:https://www.fourquarterbar.com
X-WR-CALDESC:Events for 
BEGIN:VTIMEZONE
TZID:America/Chicago
BEGIN:DAYLIGHT
TZOFFSETFROM:-0600
TZOFFSETTO:-0500
TZNAME:CDT
DTSTART:20210314T080000
END:DAYLIGHT
BEGIN:STANDARD
TZOFFSETFROM:-0500
TZOFFSETTO:-0600
TZNAME:CST
DTSTART:20211107T070000
END:STANDARD
END:VTIMEZONE
BEGIN:VEVENT
DTSTART;TZID=America/Chicago:20210507T210000
DTEND;TZID=America/Chicago:20210508T010000
DTSTAMP:20260422T092229
CREATED:20210505T005047Z
LAST-MODIFIED:20210505T005335Z
UID:1461-1620421200-1620435600@www.fourquarterbar.com
SUMMARY:Billy Ruben and the Elevated Enzymes w/ Good Foot
DESCRIPTION:Live music is back with a great double header featuring Billy Ruben and the Elevated Enzymes with Good Foot. \n$8 Cover
URL:https://www.fourquarterbar.com/event/billy-ruben-and-the-elevated-enzymes-w-good-foot/
LOCATION:Four Quarter Bar\, 415 Main St.\, North Little Rock\, AR\, 72114\, United States
ATTACH;FMTTYPE=image/jpeg:https://www.fourquarterbar.com/wp-content/uploads/2021/05/billyreuben_goodfoot_20210504.jpg
END:VEVENT
END:VCALENDAR