BEGIN:VCALENDAR
VERSION:2.0
PRODID:-// - ECPv5.14.0.2//NONSGML v1.0//EN
CALSCALE:GREGORIAN
METHOD:PUBLISH
X-ORIGINAL-URL:https://www.fourquarterbar.com
X-WR-CALDESC:Events for 
BEGIN:VTIMEZONE
TZID:America/Chicago
BEGIN:DAYLIGHT
TZOFFSETFROM:-0600
TZOFFSETTO:-0500
TZNAME:CDT
DTSTART:20250309T080000
END:DAYLIGHT
BEGIN:STANDARD
TZOFFSETFROM:-0500
TZOFFSETTO:-0600
TZNAME:CST
DTSTART:20251102T070000
END:STANDARD
END:VTIMEZONE
BEGIN:VEVENT
DTSTART;TZID=America/Chicago:20251212T213000
DTEND;TZID=America/Chicago:20251213T010000
DTSTAMP:20260421T052228
CREATED:20251130T015652Z
LAST-MODIFIED:20251130T015734Z
UID:2794-1765575000-1765587600@www.fourquarterbar.com
SUMMARY:Black River Pearl
DESCRIPTION:Black River Pearl will be coming to Four Quarter Bar to kick off the second weekend in December! So come on down for a Rockin’ time! \n9:30pm \n$8
URL:https://www.fourquarterbar.com/event/black-river-pearl-9/
LOCATION:Four Quarter Bar\, 415 Main St.\, North Little Rock\, AR\, 72114\, United States
END:VEVENT
END:VCALENDAR