BEGIN:VCALENDAR
VERSION:2.0
PRODID:-// - ECPv5.14.0.2//NONSGML v1.0//EN
CALSCALE:GREGORIAN
METHOD:PUBLISH
X-ORIGINAL-URL:https://www.fourquarterbar.com
X-WR-CALDESC:Events for 
BEGIN:VTIMEZONE
TZID:America/Chicago
BEGIN:DAYLIGHT
TZOFFSETFROM:-0600
TZOFFSETTO:-0500
TZNAME:CDT
DTSTART:20240310T080000
END:DAYLIGHT
BEGIN:STANDARD
TZOFFSETFROM:-0500
TZOFFSETTO:-0600
TZNAME:CST
DTSTART:20241103T070000
END:STANDARD
END:VTIMEZONE
BEGIN:VEVENT
DTSTART;TZID=America/Chicago:20240119T213000
DTEND;TZID=America/Chicago:20240120T010000
DTSTAMP:20260420T161550
CREATED:20240105T160456Z
LAST-MODIFIED:20240105T160456Z
UID:2257-1705699800-1705712400@www.fourquarterbar.com
SUMMARY:Bluesboy Jag and Learning to Crawl
DESCRIPTION:9:30 PM \n$8 Cover
URL:https://www.fourquarterbar.com/event/bluesboy-jag-and-learning-to-crawl-2/
LOCATION:Four Quarter Bar\, 415 Main St.\, North Little Rock\, AR\, 72114\, United States
ATTACH;FMTTYPE=image/jpeg:https://www.fourquarterbar.com/wp-content/uploads/2023/04/bluesboyjag.jpg
END:VEVENT
END:VCALENDAR