BEGIN:VCALENDAR
VERSION:2.0
PRODID:-// - ECPv5.14.0.2//NONSGML v1.0//EN
CALSCALE:GREGORIAN
METHOD:PUBLISH
X-ORIGINAL-URL:https://www.fourquarterbar.com
X-WR-CALDESC:Events for 
BEGIN:VTIMEZONE
TZID:America/Chicago
BEGIN:DAYLIGHT
TZOFFSETFROM:-0600
TZOFFSETTO:-0500
TZNAME:CDT
DTSTART:20250309T080000
END:DAYLIGHT
BEGIN:STANDARD
TZOFFSETFROM:-0500
TZOFFSETTO:-0600
TZNAME:CST
DTSTART:20251102T070000
END:STANDARD
END:VTIMEZONE
BEGIN:VEVENT
DTSTART;TZID=America/Chicago:20251219T213000
DTEND;TZID=America/Chicago:20251220T010000
DTSTAMP:20260419T072153
CREATED:20251201T192511Z
LAST-MODIFIED:20251201T192511Z
UID:2800-1766179800-1766192400@www.fourquarterbar.com
SUMMARY:Boysterus
DESCRIPTION:In the mood for some South Arkansas Flavor? Look no further because Boysterus Music is coming to Four Quarter this December! \n9:30pm \nCover $8
URL:https://www.fourquarterbar.com/event/boysterus-3/
LOCATION:Four Quarter Bar\, 415 Main St.\, North Little Rock\, AR\, 72114\, United States
END:VEVENT
END:VCALENDAR