BEGIN:VCALENDAR
VERSION:2.0
PRODID:-// - ECPv5.14.0.2//NONSGML v1.0//EN
CALSCALE:GREGORIAN
METHOD:PUBLISH
X-ORIGINAL-URL:https://www.fourquarterbar.com
X-WR-CALDESC:Events for 
BEGIN:VTIMEZONE
TZID:America/Chicago
BEGIN:DAYLIGHT
TZOFFSETFROM:-0600
TZOFFSETTO:-0500
TZNAME:CDT
DTSTART:20260308T080000
END:DAYLIGHT
BEGIN:STANDARD
TZOFFSETFROM:-0500
TZOFFSETTO:-0600
TZNAME:CST
DTSTART:20261101T070000
END:STANDARD
END:VTIMEZONE
BEGIN:VEVENT
DTSTART;TZID=America/Chicago:20260327T213000
DTEND;TZID=America/Chicago:20260328T010000
DTSTAMP:20260420T162012
CREATED:20260302T221505Z
LAST-MODIFIED:20260302T221505Z
UID:2883-1774647000-1774659600@www.fourquarterbar.com
SUMMARY:Boysterus
DESCRIPTION:In the mood for some South Arkansas Flavor? Look no further because Boysterus Music is coming to Four Quarter this March! \nStarts: 9:30pm \nCover: $8
URL:https://www.fourquarterbar.com/event/boysterus-4/
LOCATION:Four Quarter Bar\, 415 Main St.\, North Little Rock\, AR\, 72114\, United States
END:VEVENT
END:VCALENDAR