BEGIN:VCALENDAR
VERSION:2.0
PRODID:-// - ECPv5.14.0.2//NONSGML v1.0//EN
CALSCALE:GREGORIAN
METHOD:PUBLISH
X-ORIGINAL-URL:https://www.fourquarterbar.com
X-WR-CALDESC:Events for 
BEGIN:VTIMEZONE
TZID:America/Chicago
BEGIN:DAYLIGHT
TZOFFSETFROM:-0600
TZOFFSETTO:-0500
TZNAME:CDT
DTSTART:20190310T080000
END:DAYLIGHT
BEGIN:STANDARD
TZOFFSETFROM:-0500
TZOFFSETTO:-0600
TZNAME:CST
DTSTART:20191103T070000
END:STANDARD
END:VTIMEZONE
BEGIN:VEVENT
DTSTART;TZID=America/Chicago:20191221T160000
DTEND;TZID=America/Chicago:20191221T190000
DTSTAMP:20260422T173545
CREATED:20191216T060429Z
LAST-MODIFIED:20191216T060429Z
UID:1219-1576944000-1576954800@www.fourquarterbar.com
SUMMARY:Buh Jones
DESCRIPTION:10 pm \n$7 Cover
URL:https://www.fourquarterbar.com/event/buh-jones/
LOCATION:Four Quarter Bar\, 415 Main St.\, North Little Rock\, AR\, 72114\, United States
ATTACH;FMTTYPE=image/jpeg:https://www.fourquarterbar.com/wp-content/uploads/2019/12/buhjones_20191215.jpg
END:VEVENT
END:VCALENDAR