BEGIN:VCALENDAR
VERSION:2.0
PRODID:-// - ECPv5.14.0.2//NONSGML v1.0//EN
CALSCALE:GREGORIAN
METHOD:PUBLISH
X-ORIGINAL-URL:https://www.fourquarterbar.com
X-WR-CALDESC:Events for 
BEGIN:VTIMEZONE
TZID:America/Chicago
BEGIN:DAYLIGHT
TZOFFSETFROM:-0600
TZOFFSETTO:-0500
TZNAME:CDT
DTSTART:20190310T080000
END:DAYLIGHT
BEGIN:STANDARD
TZOFFSETFROM:-0500
TZOFFSETTO:-0600
TZNAME:CST
DTSTART:20191103T070000
END:STANDARD
END:VTIMEZONE
BEGIN:VEVENT
DTSTART;TZID=America/Chicago:20190907T170000
DTEND;TZID=America/Chicago:20190907T200000
DTSTAMP:20260423T000037
CREATED:20190905T184757Z
LAST-MODIFIED:20190905T184757Z
UID:1129-1567875600-1567886400@www.fourquarterbar.com
SUMMARY:Charlotte Taylor and Gypsy Rain
DESCRIPTION:10 pm\n$7 Cover \nBlues performer and singer-songwriter Charlotte Taylor fronts this dynamic original blues band from Little Rock\, Arkansas. \nPerforming since an early age\, Taylor sings a wide range of styles including blues\, soul\, jazz\, rock and country. Singing on stage since age 16\, Charlotte is a singer’s singer\, and was influenced by all the great female vocalists like\, Billie Holliday\, Aretha Franklin\, and Janis Joplin\, but also the blues rock band frontmen\, Robert Plant and Stephen Tyler. Getting hooked deeply on the blues\, Charlotte formed the blues band “Project Blue” in 1995 which opened for Blue Oyster Cult and Nazareth at the Arkansas Jam before landing a recording contract in Memphis with the famed Hi Records. Recording her first CD entitled “Taylor and Martinez” with George Martinez on guitar\, “Taylor and Martinez” were the first new act on Hi Records in 25 years. The CD features 10 original songs written by the duo. Taylor’s vocal style and performance have been compared to Ann Wilson of Heart\, blues legend Etta James\, and even pop blues singer Maria Maldaur. 
URL:https://www.fourquarterbar.com/event/charlotte-taylor-and-gypsy-rain-2/
LOCATION:Four Quarter Bar\, 415 Main St.\, North Little Rock\, AR\, 72114\, United States
ATTACH;FMTTYPE=image/jpeg:https://www.fourquarterbar.com/wp-content/uploads/2018/12/Taylor_Charlotte.jpg
END:VEVENT
END:VCALENDAR