BEGIN:VCALENDAR
VERSION:2.0
PRODID:-// - ECPv5.14.0.2//NONSGML v1.0//EN
CALSCALE:GREGORIAN
METHOD:PUBLISH
X-ORIGINAL-URL:https://www.fourquarterbar.com
X-WR-CALDESC:Events for 
BEGIN:VTIMEZONE
TZID:America/Chicago
BEGIN:DAYLIGHT
TZOFFSETFROM:-0600
TZOFFSETTO:-0500
TZNAME:CDT
DTSTART:20260308T080000
END:DAYLIGHT
BEGIN:STANDARD
TZOFFSETFROM:-0500
TZOFFSETTO:-0600
TZNAME:CST
DTSTART:20261101T070000
END:STANDARD
END:VTIMEZONE
BEGIN:VEVENT
DTSTART;TZID=America/Chicago:20260424T213000
DTEND;TZID=America/Chicago:20260425T010000
DTSTAMP:20260420T031719
CREATED:20260303T015610Z
LAST-MODIFIED:20260303T015610Z
UID:2912-1777066200-1777078800@www.fourquarterbar.com
SUMMARY:Chris Combs Trio
DESCRIPTION:Catch the Chris Combs Trio live this April at Four Quarter Bar in North Little Rock for a night of genre-bending grooves and electrifying musicianship you won’t want to miss. \nStarts: 9:30  \nCover: $8
URL:https://www.fourquarterbar.com/event/chris-combs-trio/
LOCATION:Four Quarter Bar\, 415 Main St.\, North Little Rock\, AR\, 72114\, United States
END:VEVENT
END:VCALENDAR