BEGIN:VCALENDAR
VERSION:2.0
PRODID:-// - ECPv5.14.0.2//NONSGML v1.0//EN
CALSCALE:GREGORIAN
METHOD:PUBLISH
X-ORIGINAL-URL:https://www.fourquarterbar.com
X-WR-CALDESC:Events for 
BEGIN:VTIMEZONE
TZID:America/Chicago
BEGIN:DAYLIGHT
TZOFFSETFROM:-0600
TZOFFSETTO:-0500
TZNAME:CDT
DTSTART:20250309T080000
END:DAYLIGHT
BEGIN:STANDARD
TZOFFSETFROM:-0500
TZOFFSETTO:-0600
TZNAME:CST
DTSTART:20251102T070000
END:STANDARD
END:VTIMEZONE
BEGIN:VEVENT
DTSTART;TZID=America/Chicago:20251205T213000
DTEND;TZID=America/Chicago:20251206T010000
DTSTAMP:20260419T093100
CREATED:20251130T013958Z
LAST-MODIFIED:20251130T013958Z
UID:2784-1764970200-1764982800@www.fourquarterbar.com
SUMMARY:Chris DeClerk Band - Vinyl Release Show
DESCRIPTION:Chris DeClerk is Coming back to Four Quarter with more than just music! Come see this fantastic show December 5th! \n9:30pm \nCover $10
URL:https://www.fourquarterbar.com/event/chris-declerk-band-vinyl-release-show/
LOCATION:Four Quarter Bar\, 415 Main St.\, North Little Rock\, AR\, 72114\, United States
END:VEVENT
END:VCALENDAR