BEGIN:VCALENDAR
VERSION:2.0
PRODID:-// - ECPv5.14.0.2//NONSGML v1.0//EN
CALSCALE:GREGORIAN
METHOD:PUBLISH
X-ORIGINAL-URL:https://www.fourquarterbar.com
X-WR-CALDESC:Events for 
BEGIN:VTIMEZONE
TZID:America/Chicago
BEGIN:DAYLIGHT
TZOFFSETFROM:-0600
TZOFFSETTO:-0500
TZNAME:CDT
DTSTART:20190310T080000
END:DAYLIGHT
BEGIN:STANDARD
TZOFFSETFROM:-0500
TZOFFSETTO:-0600
TZNAME:CST
DTSTART:20191103T070000
END:STANDARD
END:VTIMEZONE
BEGIN:VEVENT
DTSTART;TZID=America/Chicago:20190412T170000
DTEND;TZID=America/Chicago:20190412T200000
DTSTAMP:20260423T074844
CREATED:20190208T032932Z
LAST-MODIFIED:20190208T032932Z
UID:881-1555088400-1555099200@www.fourquarterbar.com
SUMMARY:Chucky Waggs & His Company of Raggs
DESCRIPTION:More info TBA
URL:https://www.fourquarterbar.com/event/chucky-waggs-his-company-of-raggs/
LOCATION:Four Quarter Bar\, 415 Main St.\, North Little Rock\, AR\, 72114\, United States
ATTACH;FMTTYPE=image/jpeg:https://www.fourquarterbar.com/wp-content/uploads/2019/02/chuckywaggs.jpg
END:VEVENT
END:VCALENDAR