BEGIN:VCALENDAR
VERSION:2.0
PRODID:-// - ECPv5.14.0.2//NONSGML v1.0//EN
CALSCALE:GREGORIAN
METHOD:PUBLISH
X-ORIGINAL-URL:https://www.fourquarterbar.com
X-WR-CALDESC:Events for 
BEGIN:VTIMEZONE
TZID:America/Chicago
BEGIN:DAYLIGHT
TZOFFSETFROM:-0600
TZOFFSETTO:-0500
TZNAME:CDT
DTSTART:20190310T080000
END:DAYLIGHT
BEGIN:STANDARD
TZOFFSETFROM:-0500
TZOFFSETTO:-0600
TZNAME:CST
DTSTART:20191103T070000
END:STANDARD
END:VTIMEZONE
BEGIN:VEVENT
DTSTART;TZID=America/Chicago:20190420T170000
DTEND;TZID=America/Chicago:20190420T200000
DTSTAMP:20260423T074045
CREATED:20190208T032035Z
LAST-MODIFIED:20190208T032035Z
UID:880-1555779600-1555790400@www.fourquarterbar.com
SUMMARY:Deep Sequence
DESCRIPTION:Doors 8:30\nShow 10:00\n21+\, $10 \nAdvance tix @\nCentralarkansastickets.com/events/4-20-party-with-deep-sequence \nDeep Sequence \nFrom a place somewhere between space and time\, Deep Sequence channels the essential funkiness of reality and beams it through the prism of experience.\nThey masterfully slather thick syrupy bass tones over pointed ever-shifting percussion\, punctuated by the nimble\, twisting guitar. Out of the swirling sounds\, keys and synthesizers wail\, cutting through the orchestrated chaos.\nImprovised Progressive Rock with an undeniably funky core is what these Little Rock\, AR sound wizards do best. Utilizing the influences of Jam\, Jazz/ Fusion\, and Funk they’ve created a sound like nothing you’ve ever heard.\nSetting the Southern Midwest music and festival scene on fire\, Deep Sequence leaves fans everywhere begging for another taste.
URL:https://www.fourquarterbar.com/event/deep-sequence-3/
LOCATION:Four Quarter Bar\, 415 Main St.\, North Little Rock\, AR\, 72114\, United States
ATTACH;FMTTYPE=image/jpeg:https://www.fourquarterbar.com/wp-content/uploads/2018/01/deep.jpg
END:VEVENT
END:VCALENDAR