BEGIN:VCALENDAR
VERSION:2.0
PRODID:-// - ECPv5.14.0.2//NONSGML v1.0//EN
CALSCALE:GREGORIAN
METHOD:PUBLISH
X-ORIGINAL-URL:https://www.fourquarterbar.com
X-WR-CALDESC:Events for 
BEGIN:VTIMEZONE
TZID:America/Chicago
BEGIN:DAYLIGHT
TZOFFSETFROM:-0600
TZOFFSETTO:-0500
TZNAME:CDT
DTSTART:20250309T080000
END:DAYLIGHT
BEGIN:STANDARD
TZOFFSETFROM:-0500
TZOFFSETTO:-0600
TZNAME:CST
DTSTART:20251102T070000
END:STANDARD
END:VTIMEZONE
BEGIN:VEVENT
DTSTART;TZID=America/Chicago:20251114T213000
DTEND;TZID=America/Chicago:20251115T010000
DTSTAMP:20260419T070630
CREATED:20251104T202310Z
LAST-MODIFIED:20251104T202310Z
UID:2753-1763155800-1763168400@www.fourquarterbar.com
SUMMARY:Dirty Lindsey
DESCRIPTION:Danny\, Darrell\, Matt\, and Sharpe… The boys that make the noise! Are coming to Four Quarter Bar this November.  Get ready for a night full of 80’s Rock! \nCover: $10 \nStarts: 9:30pm
URL:https://www.fourquarterbar.com/event/dirty-lindsey/
LOCATION:Four Quarter Bar\, 415 Main St.\, North Little Rock\, AR\, 72114\, United States
END:VEVENT
END:VCALENDAR