BEGIN:VCALENDAR
VERSION:2.0
PRODID:-// - ECPv5.14.0.2//NONSGML v1.0//EN
CALSCALE:GREGORIAN
METHOD:PUBLISH
X-ORIGINAL-URL:https://www.fourquarterbar.com
X-WR-CALDESC:Events for 
BEGIN:VTIMEZONE
TZID:America/Chicago
BEGIN:DAYLIGHT
TZOFFSETFROM:-0600
TZOFFSETTO:-0500
TZNAME:CDT
DTSTART:20250309T080000
END:DAYLIGHT
BEGIN:STANDARD
TZOFFSETFROM:-0500
TZOFFSETTO:-0600
TZNAME:CST
DTSTART:20251102T070000
END:STANDARD
END:VTIMEZONE
BEGIN:VEVENT
DTSTART;TZID=America/Chicago:20250510T190000
DTEND;TZID=America/Chicago:20250510T220000
DTSTAMP:20260419T191540
CREATED:20250415T203213Z
LAST-MODIFIED:20250415T203213Z
UID:2575-1746903600-1746914400@www.fourquarterbar.com
SUMMARY:Dogtown Throwdown w/ Red and the Revelers
DESCRIPTION:This month\, we’re bringing early summer barbecue vibes to Main Street!  \n Who has the best burger\, hot dog\, or summer cocktail? You be the judge! Local restaurants will be serving up their best barbecue-inspired bites and refreshing summer drinks. \n Live music will keep the party going all weekend! \n Dog-friendly patios and activities for your four-legged friends. \n Sparkling Saturday specials and ice-cold drinks to cool you down. \nKick off summer the right way—great food\, cold drinks\, live music\, and good company! See you there!  \n  \nSATURDAY\, May 10 \n12-2 pm “Sparkling Saturday” Champagne brunch \nThis month\, we’re bringing early summer barbecue vibes to Main Street!  \n10-1 pm North Little Rock Animal Shelter Mobile Adoption Unit \n2 pm-6 pm Spring Market at Flyway \n7 pm Red & The Revelers bring Swamp Soul from the Deep South to the stage next to Argenta Library
URL:https://www.fourquarterbar.com/event/dogtown-throwdown-w-red-and-the-revelers/
LOCATION:Four Quarter Bar\, 415 Main St.\, North Little Rock\, AR\, 72114\, United States
END:VEVENT
END:VCALENDAR