BEGIN:VCALENDAR
VERSION:2.0
PRODID:-// - ECPv5.14.0.2//NONSGML v1.0//EN
CALSCALE:GREGORIAN
METHOD:PUBLISH
X-ORIGINAL-URL:https://www.fourquarterbar.com
X-WR-CALDESC:Events for 
BEGIN:VTIMEZONE
TZID:America/Chicago
BEGIN:DAYLIGHT
TZOFFSETFROM:-0600
TZOFFSETTO:-0500
TZNAME:CDT
DTSTART:20250309T080000
END:DAYLIGHT
BEGIN:STANDARD
TZOFFSETFROM:-0500
TZOFFSETTO:-0600
TZNAME:CST
DTSTART:20251102T070000
END:STANDARD
END:VTIMEZONE
BEGIN:VEVENT
DTSTART;TZID=America/Chicago:20250712T213000
DTEND;TZID=America/Chicago:20250713T010000
DTSTAMP:20260419T173941
CREATED:20250701T230258Z
LAST-MODIFIED:20250701T230258Z
UID:2646-1752355800-1752368400@www.fourquarterbar.com
SUMMARY:Ed Bowman and the Rock City Players
DESCRIPTION:Get ready for a wide variety of soulful blues\, classic soul & R&B oldies along with some of your favorite funk and dance tunes. Ed Bowman and the Rock City Players take the stage at Four Quarter Bar this July \n9:30pm July 12th \n$8 Cover
URL:https://www.fourquarterbar.com/event/ed-bowman-and-the-rock-city-players-4/
LOCATION:Four Quarter Bar\, 415 Main St.\, North Little Rock\, AR\, 72114\, United States
END:VEVENT
END:VCALENDAR