BEGIN:VCALENDAR
VERSION:2.0
PRODID:-// - ECPv5.14.0.2//NONSGML v1.0//EN
CALSCALE:GREGORIAN
METHOD:PUBLISH
X-ORIGINAL-URL:https://www.fourquarterbar.com
X-WR-CALDESC:Events for 
BEGIN:VTIMEZONE
TZID:America/Chicago
BEGIN:DAYLIGHT
TZOFFSETFROM:-0600
TZOFFSETTO:-0500
TZNAME:CDT
DTSTART:20250309T080000
END:DAYLIGHT
BEGIN:STANDARD
TZOFFSETFROM:-0500
TZOFFSETTO:-0600
TZNAME:CST
DTSTART:20251102T070000
END:STANDARD
END:VTIMEZONE
BEGIN:VEVENT
DTSTART;TZID=America/Chicago:20250222T210000
DTEND;TZID=America/Chicago:20250223T010000
DTSTAMP:20260419T222657
CREATED:20250213T151052Z
LAST-MODIFIED:20250213T151052Z
UID:2517-1740258000-1740272400@www.fourquarterbar.com
SUMMARY:FreeVerse
DESCRIPTION:Hold onto your hats\, because February 22nd is going to be a night to remember! FreeVerse is taking the blues and turning it up a notch with their funky vibes at the Four Quarter Bar! \nThis is not just a show\, it’s an experience you won’t want to miss! Get ready to dance\, groove\, and feel the music like never before. \nTell your friends\, mark your calendars\, and get ready for a night of electrifying music and unforgettable fun! \nSee you there for an epic night with FreeVerse!
URL:https://www.fourquarterbar.com/event/freeverse-7/
LOCATION:Four Quarter Bar\, 415 Main St.\, North Little Rock\, AR\, 72114\, United States
ATTACH;FMTTYPE=image/jpeg:https://www.fourquarterbar.com/wp-content/uploads/2016/09/Freeverse.jpg
END:VEVENT
END:VCALENDAR