BEGIN:VCALENDAR
VERSION:2.0
PRODID:-// - ECPv5.14.0.2//NONSGML v1.0//EN
CALSCALE:GREGORIAN
METHOD:PUBLISH
X-ORIGINAL-URL:https://www.fourquarterbar.com
X-WR-CALDESC:Events for 
BEGIN:VTIMEZONE
TZID:America/Chicago
BEGIN:DAYLIGHT
TZOFFSETFROM:-0600
TZOFFSETTO:-0500
TZNAME:CDT
DTSTART:20190310T080000
END:DAYLIGHT
BEGIN:STANDARD
TZOFFSETFROM:-0500
TZOFFSETTO:-0600
TZNAME:CST
DTSTART:20191103T070000
END:STANDARD
END:VTIMEZONE
BEGIN:VEVENT
DTSTART;TZID=America/Chicago:20190523T150000
DTEND;TZID=America/Chicago:20190523T150000
DTSTAMP:20260423T061701
CREATED:20190501T002303Z
LAST-MODIFIED:20190501T002433Z
UID:1025-1558623600-1558623600@www.fourquarterbar.com
SUMMARY:Grayson Shelton (Sweetwater Brewing Party!)
DESCRIPTION:8 p.m.\nFREE Show! \nCome join us as we tap some special runs of SweetWater Brewing Company‘s dank (heh) brews! \nLive music from Grayson Shelton (War Chief) and more TBD
URL:https://www.fourquarterbar.com/event/grayson-shelton-sweetwater-brewing-party/
LOCATION:Four Quarter Bar\, 415 Main St.\, North Little Rock\, AR\, 72114\, United States
ATTACH;FMTTYPE=image/jpeg:https://www.fourquarterbar.com/wp-content/uploads/2019/04/graysonshelton.jpg
END:VEVENT
END:VCALENDAR