BEGIN:VCALENDAR
VERSION:2.0
PRODID:-// - ECPv5.14.0.2//NONSGML v1.0//EN
CALSCALE:GREGORIAN
METHOD:PUBLISH
X-ORIGINAL-URL:https://www.fourquarterbar.com
X-WR-CALDESC:Events for 
BEGIN:VTIMEZONE
TZID:America/Chicago
BEGIN:DAYLIGHT
TZOFFSETFROM:-0600
TZOFFSETTO:-0500
TZNAME:CDT
DTSTART:20250309T080000
END:DAYLIGHT
BEGIN:STANDARD
TZOFFSETFROM:-0500
TZOFFSETTO:-0600
TZNAME:CST
DTSTART:20251102T070000
END:STANDARD
END:VTIMEZONE
BEGIN:VEVENT
DTSTART;TZID=America/Chicago:20251107T210000
DTEND;TZID=America/Chicago:20251108T010000
DTSTAMP:20260421T035034
CREATED:20251104T203730Z
LAST-MODIFIED:20251104T203730Z
UID:2772-1762549200-1762563600@www.fourquarterbar.com
SUMMARY:IV and the Strange Band w/ Opener Chris Denny
DESCRIPTION:IV and the Strange Band are back at 4QTR!!$15 Pre-sale//$20 DOS
URL:https://www.fourquarterbar.com/event/iv-and-the-strange-band-w-opener-chris-denny/
LOCATION:Four Quarter Bar\, 415 Main St.\, North Little Rock\, AR\, 72114\, United States
END:VEVENT
END:VCALENDAR