BEGIN:VCALENDAR
VERSION:2.0
PRODID:-// - ECPv5.14.0.2//NONSGML v1.0//EN
CALSCALE:GREGORIAN
METHOD:PUBLISH
X-ORIGINAL-URL:https://www.fourquarterbar.com
X-WR-CALDESC:Events for 
BEGIN:VTIMEZONE
TZID:America/Chicago
BEGIN:DAYLIGHT
TZOFFSETFROM:-0600
TZOFFSETTO:-0500
TZNAME:CDT
DTSTART:20200308T080000
END:DAYLIGHT
BEGIN:STANDARD
TZOFFSETFROM:-0500
TZOFFSETTO:-0600
TZNAME:CST
DTSTART:20201101T070000
END:STANDARD
END:VTIMEZONE
BEGIN:VEVENT
DTSTART;TZID=America/Chicago:20200117T160000
DTEND;TZID=America/Chicago:20200117T190000
DTSTAMP:20260422T174509
CREATED:20191220T230318Z
LAST-MODIFIED:20191220T230318Z
UID:1242-1579276800-1579287600@www.fourquarterbar.com
SUMMARY:Jamie Lou and The Hullabaloo with The Cosmic Farmer
DESCRIPTION:Jamie Lou and The Hullabaloo return to Little Rock\, Friday\, January 17 at Four Quarter Bar with special guests The Cosmic Farmer \n$7 at the door\, show starts at 10 PM \n21+ \n——————————————————————————————- \nJamie Lou and The Hullabaloo – Combining the melodies and sensibilities of Wilco and Fleetwood Mac\, with the power and bombast of My Morning Jacket\, Jamie Lou & the Hullabaloo have been wowing audiences with their blazing potpourri of Rock\, Pop\, Folk & Psychedelia since their formation in 2015. \njamielouandthehullabaloo.com \nThe Cosmic Farmer – Elliott S. Cotten (American Lions\, The Whole Famn Damily\, Defrance) and his band of merry music makers make psychedelic rock/soul for your sweet sweet ear holes
URL:https://www.fourquarterbar.com/event/jamie-lou-and-the-hullabaloo-with-the-cosmic-farmer/
LOCATION:Four Quarter Bar\, 415 Main St.\, North Little Rock\, AR\, 72114\, United States
ATTACH;FMTTYPE=image/jpeg:https://www.fourquarterbar.com/wp-content/uploads/2019/02/jamie_lou_hullaballoo.jpg
END:VEVENT
END:VCALENDAR