BEGIN:VCALENDAR
VERSION:2.0
PRODID:-// - ECPv5.14.0.2//NONSGML v1.0//EN
CALSCALE:GREGORIAN
METHOD:PUBLISH
X-ORIGINAL-URL:https://www.fourquarterbar.com
X-WR-CALDESC:Events for 
BEGIN:VTIMEZONE
TZID:America/Chicago
BEGIN:DAYLIGHT
TZOFFSETFROM:-0600
TZOFFSETTO:-0500
TZNAME:CDT
DTSTART:20250309T080000
END:DAYLIGHT
BEGIN:STANDARD
TZOFFSETFROM:-0500
TZOFFSETTO:-0600
TZNAME:CST
DTSTART:20251102T070000
END:STANDARD
END:VTIMEZONE
BEGIN:VEVENT
DTSTART;TZID=America/Chicago:20250104T210000
DTEND;TZID=America/Chicago:20250104T210000
DTSTAMP:20260419T222857
CREATED:20250213T145932Z
LAST-MODIFIED:20250213T145932Z
UID:2504-1736024400-1736024400@www.fourquarterbar.com
SUMMARY:Jeff Coleman & The Feeders
DESCRIPTION:9:30 pm$8 Cover
URL:https://www.fourquarterbar.com/event/jeff-coleman-the-feeders/
LOCATION:Four Quarter Bar\, 415 Main St.\, North Little Rock\, AR\, 72114\, United States
ATTACH;FMTTYPE=image/jpeg:https://www.fourquarterbar.com/wp-content/uploads/2019/05/JeffColeman.jpg
END:VEVENT
END:VCALENDAR