BEGIN:VCALENDAR
VERSION:2.0
PRODID:-// - ECPv5.14.0.2//NONSGML v1.0//EN
CALSCALE:GREGORIAN
METHOD:PUBLISH
X-ORIGINAL-URL:https://www.fourquarterbar.com
X-WR-CALDESC:Events for 
BEGIN:VTIMEZONE
TZID:America/Chicago
BEGIN:DAYLIGHT
TZOFFSETFROM:-0600
TZOFFSETTO:-0500
TZNAME:CDT
DTSTART:20190310T080000
END:DAYLIGHT
BEGIN:STANDARD
TZOFFSETFROM:-0500
TZOFFSETTO:-0600
TZNAME:CST
DTSTART:20191103T070000
END:STANDARD
END:VTIMEZONE
BEGIN:VEVENT
DTSTART;TZID=America/Chicago:20191109T160000
DTEND;TZID=America/Chicago:20191109T190000
DTSTAMP:20260422T203901
CREATED:20191029T111618Z
LAST-MODIFIED:20191029T111726Z
UID:1163-1573315200-1573326000@www.fourquarterbar.com
SUMMARY:Jesse Cotton Stone
DESCRIPTION:10 pm\n$10 Cover \nJesse Cotton Stone and his band bring listeners through the doors of a Heart-Wrenching Boutique of Vintage-Toned American Blues Music.
URL:https://www.fourquarterbar.com/event/jesse-cotton-stone/
LOCATION:Four Quarter Bar\, 415 Main St.\, North Little Rock\, AR\, 72114\, United States
ATTACH;FMTTYPE=image/jpeg:https://www.fourquarterbar.com/wp-content/uploads/2019/10/jessiecottonstone20191028.jpg
END:VEVENT
END:VCALENDAR