BEGIN:VCALENDAR
VERSION:2.0
PRODID:-// - ECPv5.14.0.2//NONSGML v1.0//EN
CALSCALE:GREGORIAN
METHOD:PUBLISH
X-ORIGINAL-URL:https://www.fourquarterbar.com
X-WR-CALDESC:Events for 
BEGIN:VTIMEZONE
TZID:America/Chicago
BEGIN:DAYLIGHT
TZOFFSETFROM:-0600
TZOFFSETTO:-0500
TZNAME:CDT
DTSTART:20250309T080000
END:DAYLIGHT
BEGIN:STANDARD
TZOFFSETFROM:-0500
TZOFFSETTO:-0600
TZNAME:CST
DTSTART:20251102T070000
END:STANDARD
END:VTIMEZONE
BEGIN:VEVENT
DTSTART;TZID=America/Chicago:20250117T213000
DTEND;TZID=America/Chicago:20250118T010000
DTSTAMP:20260419T235228
CREATED:20250213T145626Z
LAST-MODIFIED:20250213T145626Z
UID:2502-1737149400-1737162000@www.fourquarterbar.com
SUMMARY:Jimmy Lynn's Psychadelic Velocity
DESCRIPTION:9 PM$8 Cover
URL:https://www.fourquarterbar.com/event/jimmy-lynns-psychadelic-velocity-2/
LOCATION:Four Quarter Bar\, 415 Main St.\, North Little Rock\, AR\, 72114\, United States
ATTACH;FMTTYPE=image/jpeg:https://www.fourquarterbar.com/wp-content/uploads/2016/10/Jimmy-Lynn.jpg
END:VEVENT
END:VCALENDAR