BEGIN:VCALENDAR
VERSION:2.0
PRODID:-// - ECPv5.14.0.2//NONSGML v1.0//EN
CALSCALE:GREGORIAN
METHOD:PUBLISH
X-ORIGINAL-URL:https://www.fourquarterbar.com
X-WR-CALDESC:Events for 
BEGIN:VTIMEZONE
TZID:America/Chicago
BEGIN:DAYLIGHT
TZOFFSETFROM:-0600
TZOFFSETTO:-0500
TZNAME:CDT
DTSTART:20250309T080000
END:DAYLIGHT
BEGIN:STANDARD
TZOFFSETFROM:-0500
TZOFFSETTO:-0600
TZNAME:CST
DTSTART:20251102T070000
END:STANDARD
END:VTIMEZONE
BEGIN:VEVENT
DTSTART;TZID=America/Chicago:20250704T213000
DTEND;TZID=America/Chicago:20250705T010000
DTSTAMP:20260419T155310
CREATED:20250701T225349Z
LAST-MODIFIED:20250701T225349Z
UID:2637-1751664600-1751677200@www.fourquarterbar.com
SUMMARY:Jimmy Lynn’s Psychedelic Velocity
DESCRIPTION:Come see Jimmy Lynn’s Psychedelic Velocity July 14th at Four Quarter Bar! \nJimmy Lynn’s Psychedelic Velocity was formed in May 2015 as a three piece power trio through the years the band’s sound flowered to become what it is today! So get ready for some good vibes and original hits when Jimmy Lynn’s Psychedelic Velocity takes the stage this July! \n9:30 pm July 4th \n$8 Cover
URL:https://www.fourquarterbar.com/event/jimmy-lynns-psychedelic-velocity-6/
LOCATION:Four Quarter Bar\, 415 Main St.\, North Little Rock\, AR\, 72114\, United States
END:VEVENT
END:VCALENDAR