BEGIN:VCALENDAR
VERSION:2.0
PRODID:-// - ECPv5.14.0.2//NONSGML v1.0//EN
CALSCALE:GREGORIAN
METHOD:PUBLISH
X-ORIGINAL-URL:https://www.fourquarterbar.com
X-WR-CALDESC:Events for 
BEGIN:VTIMEZONE
TZID:America/Chicago
BEGIN:DAYLIGHT
TZOFFSETFROM:-0600
TZOFFSETTO:-0500
TZNAME:CDT
DTSTART:20190310T080000
END:DAYLIGHT
BEGIN:STANDARD
TZOFFSETFROM:-0500
TZOFFSETTO:-0600
TZNAME:CST
DTSTART:20191103T070000
END:STANDARD
END:VTIMEZONE
BEGIN:VEVENT
DTSTART;TZID=America/Chicago:20191103T150000
DTEND;TZID=America/Chicago:20191103T173000
DTSTAMP:20260422T204609
CREATED:20191029T110724Z
LAST-MODIFIED:20191029T110724Z
UID:1159-1572793200-1572802200@www.fourquarterbar.com
SUMMARY:Jonathan & McCormick (FREE SHOW!)
DESCRIPTION:Seamlessly weaving together originals\, improvisation\, and instrumental interpretations of singable covers\, Jonathan DerGazarian (Deep Sequence) and McCormick Carlson (Monk Is King) team up to create a fun\, light duo performance that reaches from funk to jazz to pop and everything in between. \nFREE SHOW\n10pm-1am\n21+
URL:https://www.fourquarterbar.com/event/jonathan-mccormick-free-show/
LOCATION:Four Quarter Bar\, 415 Main St.\, North Little Rock\, AR\, 72114\, United States
ATTACH;FMTTYPE=image/jpeg:https://www.fourquarterbar.com/wp-content/uploads/2019/10/jonathanmccormic_20191029.jpg
END:VEVENT
END:VCALENDAR