BEGIN:VCALENDAR
VERSION:2.0
PRODID:-// - ECPv5.14.0.2//NONSGML v1.0//EN
CALSCALE:GREGORIAN
METHOD:PUBLISH
X-ORIGINAL-URL:https://www.fourquarterbar.com
X-WR-CALDESC:Events for 
BEGIN:VTIMEZONE
TZID:America/Chicago
BEGIN:DAYLIGHT
TZOFFSETFROM:-0600
TZOFFSETTO:-0500
TZNAME:CDT
DTSTART:20260308T080000
END:DAYLIGHT
BEGIN:STANDARD
TZOFFSETFROM:-0500
TZOFFSETTO:-0600
TZNAME:CST
DTSTART:20261101T070000
END:STANDARD
END:VTIMEZONE
BEGIN:VEVENT
DTSTART;TZID=America/Chicago:20260403T213000
DTEND;TZID=America/Chicago:20260404T010000
DTSTAMP:20260420T123424
CREATED:20260303T014412Z
LAST-MODIFIED:20260303T014412Z
UID:2890-1775251800-1775264400@www.fourquarterbar.com
SUMMARY:KC Bones
DESCRIPTION:Don’t miss KC Bones taking over Four Quarter Bar in North Little Rock this April! This Kansas City band has been Keeping The Dead Alive since 2019! \nStarts: 9:30  \nCover: $10
URL:https://www.fourquarterbar.com/event/kc-bones-3/
LOCATION:Four Quarter Bar\, 415 Main St.\, North Little Rock\, AR\, 72114\, United States
END:VEVENT
END:VCALENDAR