BEGIN:VCALENDAR
VERSION:2.0
PRODID:-// - ECPv5.14.0.2//NONSGML v1.0//EN
CALSCALE:GREGORIAN
METHOD:PUBLISH
X-ORIGINAL-URL:https://www.fourquarterbar.com
X-WR-CALDESC:Events for 
BEGIN:VTIMEZONE
TZID:America/Chicago
BEGIN:DAYLIGHT
TZOFFSETFROM:-0600
TZOFFSETTO:-0500
TZNAME:CDT
DTSTART:20200308T080000
END:DAYLIGHT
BEGIN:STANDARD
TZOFFSETFROM:-0500
TZOFFSETTO:-0600
TZNAME:CST
DTSTART:20201101T070000
END:STANDARD
END:VTIMEZONE
BEGIN:VEVENT
DTSTART;TZID=America/Chicago:20200104T160000
DTEND;TZID=America/Chicago:20200104T190000
DTSTAMP:20260422T174509
CREATED:20191220T225017Z
LAST-MODIFIED:20191220T225017Z
UID:1230-1578153600-1578164400@www.fourquarterbar.com
SUMMARY:KK & The Reverend Blues Revival
DESCRIPTION:10 pm\n$7 Cover
URL:https://www.fourquarterbar.com/event/kk-the-reverend-blues-revival/
LOCATION:Four Quarter Bar\, 415 Main St.\, North Little Rock\, AR\, 72114\, United States
ATTACH;FMTTYPE=image/jpeg:https://www.fourquarterbar.com/wp-content/uploads/2019/05/kkbluesrevival.jpg
END:VEVENT
END:VCALENDAR