BEGIN:VCALENDAR
VERSION:2.0
PRODID:-// - ECPv5.14.0.2//NONSGML v1.0//EN
CALSCALE:GREGORIAN
METHOD:PUBLISH
X-ORIGINAL-URL:https://www.fourquarterbar.com
X-WR-CALDESC:Events for 
BEGIN:VTIMEZONE
TZID:America/Chicago
BEGIN:DAYLIGHT
TZOFFSETFROM:-0600
TZOFFSETTO:-0500
TZNAME:CDT
DTSTART:20200308T080000
END:DAYLIGHT
BEGIN:STANDARD
TZOFFSETFROM:-0500
TZOFFSETTO:-0600
TZNAME:CST
DTSTART:20201101T070000
END:STANDARD
END:VTIMEZONE
BEGIN:VEVENT
DTSTART;TZID=America/Chicago:20200207T160000
DTEND;TZID=America/Chicago:20200207T190000
DTSTAMP:20260422T103452
CREATED:20200123T054920Z
LAST-MODIFIED:20200123T054920Z
UID:1272-1581091200-1581102000@www.fourquarterbar.com
SUMMARY:Little Raine Band
DESCRIPTION:10 pm\n$7 Cover \nLittle Raine Band is a rock-fusion jam band from Birmingham\, AL. Members Davis Little\, Daniel Raine\, Isaiah smith\, and Justin Sledge use their extensive musical backgrounds to seamlessly mesh elements rock\, jazz\, soul\, electronica\, and more. The band creates a sound that is truly one of a kind. Little Raine Band’s live show will carry you on a journey from an ethereal space of calmness into an unrelenting display of their musical prowess. \nLRB has already gained a strong following in the southeast with a combination of their first album\, Liveheart\, and stellar performances covering a large spectrum of music laced with top notch improvisation. The band has held their own in large festival settings such as SweetWater 420 Fest and Counterpoint. They have shared the stage with acts like The Revivalists\, Eoto\, Dumpstaphunk\, Twiddle\, New Orleans Suspects\, Dopapod\, Jojo Hermann\, and Perpetual Groove.
URL:https://www.fourquarterbar.com/event/little-raine-band-2/
LOCATION:Four Quarter Bar\, 415 Main St.\, North Little Rock\, AR\, 72114\, United States
ATTACH;FMTTYPE=image/jpeg:https://www.fourquarterbar.com/wp-content/uploads/2020/01/littleraineband20200120.jpg
END:VEVENT
END:VCALENDAR