BEGIN:VCALENDAR
VERSION:2.0
PRODID:-// - ECPv5.14.0.2//NONSGML v1.0//EN
CALSCALE:GREGORIAN
METHOD:PUBLISH
X-ORIGINAL-URL:https://www.fourquarterbar.com
X-WR-CALDESC:Events for 
BEGIN:VTIMEZONE
TZID:America/Chicago
BEGIN:DAYLIGHT
TZOFFSETFROM:-0600
TZOFFSETTO:-0500
TZNAME:CDT
DTSTART:20160313T080000
END:DAYLIGHT
BEGIN:STANDARD
TZOFFSETFROM:-0500
TZOFFSETTO:-0600
TZNAME:CST
DTSTART:20161106T070000
END:STANDARD
END:VTIMEZONE
BEGIN:VEVENT
DTSTART;TZID=America/Chicago:20160408T173000
DTEND;TZID=America/Chicago:20160408T210000
DTSTAMP:20260423T071414
CREATED:20160406T084554Z
LAST-MODIFIED:20160406T084949Z
UID:176-1460136600-1460149200@www.fourquarterbar.com
SUMMARY:Low Society Blues Band
DESCRIPTION:
URL:https://www.fourquarterbar.com/event/low-society-blues-band-6/
LOCATION:Four Quarter Bar\, 415 Main St.\, North Little Rock\, AR\, 72114\, United States
ATTACH;FMTTYPE=image/jpeg:https://www.fourquarterbar.com/wp-content/uploads/2016/03/Low_Society.jpg
END:VEVENT
END:VCALENDAR