BEGIN:VCALENDAR
VERSION:2.0
PRODID:-// - ECPv5.14.0.2//NONSGML v1.0//EN
CALSCALE:GREGORIAN
METHOD:PUBLISH
X-ORIGINAL-URL:https://www.fourquarterbar.com
X-WR-CALDESC:Events for 
BEGIN:VTIMEZONE
TZID:America/Chicago
BEGIN:DAYLIGHT
TZOFFSETFROM:-0600
TZOFFSETTO:-0500
TZNAME:CDT
DTSTART:20190310T080000
END:DAYLIGHT
BEGIN:STANDARD
TZOFFSETFROM:-0500
TZOFFSETTO:-0600
TZNAME:CST
DTSTART:20191103T070000
END:STANDARD
END:VTIMEZONE
BEGIN:VEVENT
DTSTART;TZID=America/Chicago:20190428T170000
DTEND;TZID=America/Chicago:20190428T200000
DTSTAMP:20260423T073942
CREATED:20190208T033927Z
LAST-MODIFIED:20190208T033927Z
UID:885-1556470800-1556481600@www.fourquarterbar.com
SUMMARY:Marbin
DESCRIPTION:$10 at the door (no presale) \nMARBIN is a progressive jazz-rock band based in Chicago\, IL\, with a unique story that stands out in today’s music world. With a do-it-yourself approach\, Marbin started touring extensively in 2011\, bringing their original instrumental music to every part of the United States. Through word of mouth\, Marbin has gained the attention of thousands of devoted fans all over the world\, and has sold tens of thousands of albums. Marbin has released seven albums: Marbin (2009)\, Breaking the Cycle (2011)\, Last Chapter of Dreaming (2013)\, The Third Set (2014)\, Aggressive Hippies (2015)\, Goatman and the House of the Dead (2016) and Israeli Jazz (2018) Marbin regularly plays in clubs all over the US and in jam and jazz festivals around the world. \nTo see Marbin playing live please visit: \nFacebook: https://www.facebook.com/marbinmusic/videos\nYouTube: https://www.youtube.com/playlist?list=PLriEoR1sz7_ltEWAVF7oRnLiyNVVqg7oH \nTo see Marbin’s full schedule please visit: \nhttps://www.bandsintown.com/marbin
URL:https://www.fourquarterbar.com/event/marbin/
LOCATION:Four Quarter Bar\, 415 Main St.\, North Little Rock\, AR\, 72114\, United States
ATTACH;FMTTYPE=image/jpeg:https://www.fourquarterbar.com/wp-content/uploads/2019/02/marbin.jpg
END:VEVENT
END:VCALENDAR