BEGIN:VCALENDAR
VERSION:2.0
PRODID:-// - ECPv5.14.0.2//NONSGML v1.0//EN
CALSCALE:GREGORIAN
METHOD:PUBLISH
X-ORIGINAL-URL:https://www.fourquarterbar.com
X-WR-CALDESC:Events for 
BEGIN:VTIMEZONE
TZID:America/Chicago
BEGIN:DAYLIGHT
TZOFFSETFROM:-0600
TZOFFSETTO:-0500
TZNAME:CDT
DTSTART:20250309T080000
END:DAYLIGHT
BEGIN:STANDARD
TZOFFSETFROM:-0500
TZOFFSETTO:-0600
TZNAME:CST
DTSTART:20251102T070000
END:STANDARD
END:VTIMEZONE
BEGIN:VEVENT
DTSTART;TZID=America/Chicago:20250530T213000
DTEND;TZID=America/Chicago:20250531T010000
DTSTAMP:20260419T173225
CREATED:20250415T204403Z
LAST-MODIFIED:20250415T204403Z
UID:2595-1748640600-1748653200@www.fourquarterbar.com
SUMMARY:Matt Moran
DESCRIPTION:Matt Moran brings Existential Country to Four Quarter Bar this May. Get ready to expand what you thought country music could be. \n9:30  \n$8 Cover
URL:https://www.fourquarterbar.com/event/matt-moran-2/
LOCATION:Four Quarter Bar\, 415 Main St.\, North Little Rock\, AR\, 72114\, United States
END:VEVENT
END:VCALENDAR