BEGIN:VCALENDAR
VERSION:2.0
PRODID:-// - ECPv5.14.0.2//NONSGML v1.0//EN
CALSCALE:GREGORIAN
METHOD:PUBLISH
X-ORIGINAL-URL:https://www.fourquarterbar.com
X-WR-CALDESC:Events for 
BEGIN:VTIMEZONE
TZID:America/Chicago
BEGIN:DAYLIGHT
TZOFFSETFROM:-0600
TZOFFSETTO:-0500
TZNAME:CDT
DTSTART:20260308T080000
END:DAYLIGHT
BEGIN:STANDARD
TZOFFSETFROM:-0500
TZOFFSETTO:-0600
TZNAME:CST
DTSTART:20261101T070000
END:STANDARD
END:VTIMEZONE
BEGIN:VEVENT
DTSTART;TZID=America/Chicago:20260328T213000
DTEND;TZID=America/Chicago:20260329T010000
DTSTAMP:20260420T143447
CREATED:20260302T221732Z
LAST-MODIFIED:20260302T221732Z
UID:2885-1774733400-1774746000@www.fourquarterbar.com
SUMMARY:Mayday by Midnight
DESCRIPTION:Get ready for “The Most Interesting Party Band in the World!” Mayday by Midnight takes the stage this August at Four Quarter Bar \nStarts: 9:30pm  \nCover: $10
URL:https://www.fourquarterbar.com/event/mayday-by-midnight-7/
LOCATION:Four Quarter Bar\, 415 Main St.\, North Little Rock\, AR\, 72114\, United States
END:VEVENT
END:VCALENDAR