BEGIN:VCALENDAR
VERSION:2.0
PRODID:-// - ECPv5.14.0.2//NONSGML v1.0//EN
CALSCALE:GREGORIAN
METHOD:PUBLISH
X-ORIGINAL-URL:https://www.fourquarterbar.com
X-WR-CALDESC:Events for 
BEGIN:VTIMEZONE
TZID:America/Chicago
BEGIN:DAYLIGHT
TZOFFSETFROM:-0600
TZOFFSETTO:-0500
TZNAME:CDT
DTSTART:20190310T080000
END:DAYLIGHT
BEGIN:STANDARD
TZOFFSETFROM:-0500
TZOFFSETTO:-0600
TZNAME:CST
DTSTART:20191103T070000
END:STANDARD
END:VTIMEZONE
BEGIN:VEVENT
DTSTART;TZID=America/Chicago:20190726T170000
DTEND;TZID=America/Chicago:20190726T200000
DTSTAMP:20260423T044351
CREATED:20190701T155818Z
LAST-MODIFIED:20190701T155818Z
UID:1077-1564160400-1564171200@www.fourquarterbar.com
SUMMARY:Mike Dillon Band
DESCRIPTION:Show Time: 10 pm\n$10 Cover \nBIO\nMike Dillon plays vibraphone and rants into the microphone. Combining styles and years of experience\, MDB makes a noise that is unique in many ways. Dean Wean said\, ” The Mike Dillon Band is my favorite touring band on the planet’ at the Ween after show where all of the band\, sans Gene\, joined the stage with Mike. The current lineup includes some of New Orleans best musicians. Nathan Lambertson is a top call upright jazz bassist with a punk rock heart of gold. Cliff Hines has been playing with Mike since 2012 and is the\nbackbone of this group providing amazing counterpoint and power on the guitar. In the drum department\, Paul Thibodeaux and Claude Coleman Jr. take turns battling providing the pocket and percussive artillery.
URL:https://www.fourquarterbar.com/event/mike-dillon-band-3/
LOCATION:Four Quarter Bar\, 415 Main St.\, North Little Rock\, AR\, 72114\, United States
ATTACH;FMTTYPE=image/jpeg:https://www.fourquarterbar.com/wp-content/uploads/2019/02/mike_dillon.jpg
END:VEVENT
END:VCALENDAR