BEGIN:VCALENDAR
VERSION:2.0
PRODID:-// - ECPv5.14.0.2//NONSGML v1.0//EN
CALSCALE:GREGORIAN
METHOD:PUBLISH
X-ORIGINAL-URL:https://www.fourquarterbar.com
X-WR-CALDESC:Events for 
BEGIN:VTIMEZONE
TZID:America/Chicago
BEGIN:DAYLIGHT
TZOFFSETFROM:-0600
TZOFFSETTO:-0500
TZNAME:CDT
DTSTART:20200308T080000
END:DAYLIGHT
BEGIN:STANDARD
TZOFFSETFROM:-0500
TZOFFSETTO:-0600
TZNAME:CST
DTSTART:20201101T070000
END:STANDARD
END:VTIMEZONE
BEGIN:VEVENT
DTSTART;TZID=America/Chicago:20200103T160000
DTEND;TZID=America/Chicago:20200103T190000
DTSTAMP:20260422T173919
CREATED:20191220T224814Z
LAST-MODIFIED:20191220T224814Z
UID:1228-1578067200-1578078000@www.fourquarterbar.com
SUMMARY:Mike Dillon Band
DESCRIPTION:10 pm\n$7 Cover \nMike Dillon plays vibraphone and rants into the microphone. Combining styles and years of experience\, MDB makes a noise that is unique in many ways. Dean Wean said\, ” The Mike Dillon Band is my favorite touring band on the planet’ at the Ween after show where all of the band\, sans Gene\, joined the stage with Mike. The current lineup includes some of the planet’s most creative musicians. To keep things interesting for the audience and Mike\, MDB is now more of a collective than a set band. Every chair in the ensemble has two or three bad motherfuckers that know the music and will bring their approach to moving sound waves . The anchor of the Bass Department is Nathan Lambertson. A top call New Orleans musician\, Nathan plays Upright\, Synth and Electric with his heart of gold. Norwood Fisher of Fishbone and Brad Houser from Critters Buggin both do a couple of MDB tours a year. James Singleton has recorded and played New Orleans gigs on Upright. When Norwood and Brad are in the mix\, the pocket has that the depth that only these two legends of the low end can deliver. As of late\, Brooks Hubbert III has been playing guitar and singing. In New Orleans\, Mike likes to get Tiff Lamson from Givers to play percussion and sing. Some nights the fourth member will be Otto Schrang ripping it up on mallets. The Drum Department is a revolving cast of characters. The list includes Brendan Bull\,Brady Blade\, Earl Harvin\, G. Maxwell Zemanovic\, Claude Coleman Jr.\, Paul Thibodeaux\, John Speice IV\, Go Go Ray\, Doug Belote and Jean Paul Gaster(Clutch). Mike has even hired Johnny Vidacovich to be the Rhythm man from time to time. Stanton Moore\, James Singleton and Doug Belote all appeared on the latest Mike Dillon release “ Bonobo Bonobo”.
URL:https://www.fourquarterbar.com/event/mike-dillon-band-4/
LOCATION:Four Quarter Bar\, 415 Main St.\, North Little Rock\, AR\, 72114\, United States
ATTACH;FMTTYPE=image/jpeg:https://www.fourquarterbar.com/wp-content/uploads/2019/02/mike_dillon.jpg
END:VEVENT
END:VCALENDAR