BEGIN:VCALENDAR
VERSION:2.0
PRODID:-// - ECPv5.14.0.2//NONSGML v1.0//EN
CALSCALE:GREGORIAN
METHOD:PUBLISH
X-ORIGINAL-URL:https://www.fourquarterbar.com
X-WR-CALDESC:Events for 
BEGIN:VTIMEZONE
TZID:America/Chicago
BEGIN:DAYLIGHT
TZOFFSETFROM:-0600
TZOFFSETTO:-0500
TZNAME:CDT
DTSTART:20200308T080000
END:DAYLIGHT
BEGIN:STANDARD
TZOFFSETFROM:-0500
TZOFFSETTO:-0600
TZNAME:CST
DTSTART:20201101T070000
END:STANDARD
END:VTIMEZONE
BEGIN:VEVENT
DTSTART;TZID=America/Chicago:20200116T140000
DTEND;TZID=America/Chicago:20200116T173000
DTSTAMP:20260422T161311
CREATED:20191220T230137Z
LAST-MODIFIED:20191220T230137Z
UID:1239-1579183200-1579195800@www.fourquarterbar.com
SUMMARY:Mike Frazier W/ Richard Michael Hall
DESCRIPTION:8 pm\nFREE SHOW \nMike Frazier is rolling back through and going to be serenading y’all with his tales of the Shenandoah Valley. If you missed him before then don’t miss him this time! \nRichard Michael Hall\, the one you all know and love\, will be kicking things off.
URL:https://www.fourquarterbar.com/event/mike-frazier-w-richard-michael-hall/
LOCATION:Four Quarter Bar\, 415 Main St.\, North Little Rock\, AR\, 72114\, United States
ATTACH;FMTTYPE=image/jpeg:https://www.fourquarterbar.com/wp-content/uploads/2019/12/RichardFrazier_20191220.jpg
END:VEVENT
END:VCALENDAR