BEGIN:VCALENDAR
VERSION:2.0
PRODID:-// - ECPv5.14.0.2//NONSGML v1.0//EN
CALSCALE:GREGORIAN
METHOD:PUBLISH
X-ORIGINAL-URL:https://www.fourquarterbar.com
X-WR-CALDESC:Events for 
BEGIN:VTIMEZONE
TZID:America/Chicago
BEGIN:DAYLIGHT
TZOFFSETFROM:-0600
TZOFFSETTO:-0500
TZNAME:CDT
DTSTART:20200308T080000
END:DAYLIGHT
BEGIN:STANDARD
TZOFFSETFROM:-0500
TZOFFSETTO:-0600
TZNAME:CST
DTSTART:20201101T070000
END:STANDARD
END:VTIMEZONE
BEGIN:VEVENT
DTSTART;TZID=America/Chicago:20200215T160000
DTEND;TZID=America/Chicago:20200215T190000
DTSTAMP:20260422T120237
CREATED:20200123T060007Z
LAST-MODIFIED:20200123T060007Z
UID:1281-1581782400-1581793200@www.fourquarterbar.com
SUMMARY:Olivia Jean
DESCRIPTION:10 pm\n$7 Cover \nOlivia Jean\, Detroit born n’ bred\, current resident of Nashville\, TN\, first staked her flag with the gothic garage rock upstarts The Black Belles in 2010 and quickly set herself apart from the pack\, performing as a side musician to a varied group of stylistically diverse musicians on a variety of instruments\, culminating with her debut solo release Bathtub Love Killings in 2014. \nBathtub Love Killings was produced by Jack White with Olivia Jean composing and playing every instrument on the album. The album was an exciting and concise statement with a controlled vision of where rock n roll can go in these modern pop dominated times. Her latest\, Night Owl\, takes this vision even further by placing Olivia behind the control desk in the role of producer. Surf guitar\, 60s Girl Group harmonies\, and punk commingle into a collection of songs depicting heartache\, revenge\, guilt\, and frustration — It’s ‘Bubblegum Garage’ at its best.
URL:https://www.fourquarterbar.com/event/olivia-jean/
LOCATION:Four Quarter Bar\, 415 Main St.\, North Little Rock\, AR\, 72114\, United States
ATTACH;FMTTYPE=image/jpeg:https://www.fourquarterbar.com/wp-content/uploads/2020/01/oliviajean_20200120.jpg
END:VEVENT
END:VCALENDAR