BEGIN:VCALENDAR
VERSION:2.0
PRODID:-// - ECPv5.14.0.2//NONSGML v1.0//EN
CALSCALE:GREGORIAN
METHOD:PUBLISH
X-ORIGINAL-URL:https://www.fourquarterbar.com
X-WR-CALDESC:Events for 
BEGIN:VTIMEZONE
TZID:America/Chicago
BEGIN:DAYLIGHT
TZOFFSETFROM:-0600
TZOFFSETTO:-0500
TZNAME:CDT
DTSTART:20190310T080000
END:DAYLIGHT
BEGIN:STANDARD
TZOFFSETFROM:-0500
TZOFFSETTO:-0600
TZNAME:CST
DTSTART:20191103T070000
END:STANDARD
END:VTIMEZONE
BEGIN:VEVENT
DTSTART;TZID=America/Chicago:20190706T170000
DTEND;TZID=America/Chicago:20190707T080000
DTSTAMP:20260423T044226
CREATED:20190701T155343Z
LAST-MODIFIED:20190701T155343Z
UID:1072-1562432400-1562486400@www.fourquarterbar.com
SUMMARY:On and Ohn
DESCRIPTION:Show Time 10 pm\n$7 Cover \nBIO\nOn and Ohn remembers being flushed down the drain as young “gator-boys” only to come into contact with toxic sewer substances and emerge later as larger mutated versions of themselves wreaking havoc on innocent\, unsuspecting citizens.
URL:https://www.fourquarterbar.com/event/on-and-ohn/
LOCATION:Four Quarter Bar\, 415 Main St.\, North Little Rock\, AR\, 72114\, United States
ATTACH;FMTTYPE=image/jpeg:https://www.fourquarterbar.com/wp-content/uploads/2019/07/onandohn.jpg
END:VEVENT
END:VCALENDAR