BEGIN:VCALENDAR
VERSION:2.0
PRODID:-// - ECPv5.14.0.2//NONSGML v1.0//EN
CALSCALE:GREGORIAN
METHOD:PUBLISH
X-ORIGINAL-URL:https://www.fourquarterbar.com
X-WR-CALDESC:Events for 
BEGIN:VTIMEZONE
TZID:America/Chicago
BEGIN:DAYLIGHT
TZOFFSETFROM:-0600
TZOFFSETTO:-0500
TZNAME:CDT
DTSTART:20190310T080000
END:DAYLIGHT
BEGIN:STANDARD
TZOFFSETFROM:-0500
TZOFFSETTO:-0600
TZNAME:CST
DTSTART:20191103T070000
END:STANDARD
END:VTIMEZONE
BEGIN:VEVENT
DTSTART;TZID=America/Chicago:20190628T170000
DTEND;TZID=America/Chicago:20190628T200000
DTSTAMP:20260423T044135
CREATED:20190507T132515Z
LAST-MODIFIED:20190620T211140Z
UID:1042-1561741200-1561752000@www.fourquarterbar.com
SUMMARY:Dirtfoot w/  Polyester Robot
DESCRIPTION:10 pm \n$10 Cover \nDirtfoot began many moons ago\, after an Easter weekend twister passed through the historic Highland area of Shreveport. Toppling of trees and destruction of homes led to the band founders and neighbors\, Matt and J meeting and forming a lasting friendship.
URL:https://www.fourquarterbar.com/event/polyester-robot-3/
LOCATION:Four Quarter Bar\, 415 Main St.\, North Little Rock\, AR\, 72114\, United States
ATTACH;FMTTYPE=image/jpeg:https://www.fourquarterbar.com/wp-content/uploads/2019/01/Dirtfoot.jpg
END:VEVENT
END:VCALENDAR