BEGIN:VCALENDAR
VERSION:2.0
PRODID:-// - ECPv5.14.0.2//NONSGML v1.0//EN
CALSCALE:GREGORIAN
METHOD:PUBLISH
X-ORIGINAL-URL:https://www.fourquarterbar.com
X-WR-CALDESC:Events for 
BEGIN:VTIMEZONE
TZID:America/Chicago
BEGIN:DAYLIGHT
TZOFFSETFROM:-0600
TZOFFSETTO:-0500
TZNAME:CDT
DTSTART:20250309T080000
END:DAYLIGHT
BEGIN:STANDARD
TZOFFSETFROM:-0500
TZOFFSETTO:-0600
TZNAME:CST
DTSTART:20251102T070000
END:STANDARD
END:VTIMEZONE
BEGIN:VEVENT
DTSTART;TZID=America/Chicago:20250809T213000
DTEND;TZID=America/Chicago:20250810T010000
DTSTAMP:20260419T142918
CREATED:20250730T164552Z
LAST-MODIFIED:20250730T164552Z
UID:2671-1754775000-1754787600@www.fourquarterbar.com
SUMMARY:Ponder the Albatross
DESCRIPTION:August 9th – Ponder the Albatross 9:30 $10 \nPonder the Albatross is taking the stage at Four Quarter Bar this August. They’re bringing their dynamic fusion alongside their gritty vocals\, plucky instrumentation\, punk breakdowns and soaring violins are going to send your head for a loop.  \nStarts at: 9:30 pm  \nCover: $10
URL:https://www.fourquarterbar.com/event/ponder-the-albatross-3/
LOCATION:Four Quarter Bar\, 415 Main St.\, North Little Rock\, AR\, 72114\, United States
END:VEVENT
END:VCALENDAR